BEGIN:VCALENDAR
VERSION:2.0
PRODID:-//Bruce Hyland Karate - ECPv4.9.6//NONSGML v1.0//EN
CALSCALE:GREGORIAN
METHOD:PUBLISH
X-WR-CALNAME:Bruce Hyland Karate
X-ORIGINAL-URL:https://dokarate.com.au
X-WR-CALDESC:Events for Bruce Hyland Karate
BEGIN:VTIMEZONE
TZID:"Australia/Melbourne"
BEGIN:STANDARD
TZOFFSETFROM:+1100
TZOFFSETTO:+1000
TZNAME:AEST
DTSTART:20200404T160000
END:STANDARD
BEGIN:DAYLIGHT
TZOFFSETFROM:+1000
TZOFFSETTO:+1100
TZNAME:AEDT
DTSTART:20201003T160000
END:DAYLIGHT
END:VTIMEZONE
BEGIN:VEVENT
DTSTART;TZID="Australia/Melbourne":20200512T181500
DTEND;TZID="Australia/Melbourne":20200512T191500
DTSTAMP:20200225T194640
CREATED:20200210T025431Z
LAST-MODIFIED:20200210T025431Z
UID:964-1589307300-1589310900@dokarate.com.au
SUMMARY:DINGLEY ISHINRYU
DESCRIPTION:Annual training seminar by Sensei Bruce Hyland 7th Dan \n
URL:https://dokarate.com.au/event/dingley-ishinryu/
ATTACH;FMTTYPE=image/jpeg:https://dokarate.com.au/wp-content/uploads/2019/07/IMG_7801.jpg
END:VEVENT
END:VCALENDAR