BEGIN:VCALENDAR
VERSION:2.0
PRODID:-//Bruce Hyland Karate - ECPv4.9.6//NONSGML v1.0//EN
CALSCALE:GREGORIAN
METHOD:PUBLISH
X-WR-CALNAME:Bruce Hyland Karate
X-ORIGINAL-URL:https://dokarate.com.au
X-WR-CALDESC:Events for Bruce Hyland Karate
BEGIN:VTIMEZONE
TZID:"Australia/Melbourne"
BEGIN:STANDARD
TZOFFSETFROM:+1100
TZOFFSETTO:+1000
TZNAME:AEST
DTSTART:20200404T160000
END:STANDARD
BEGIN:DAYLIGHT
TZOFFSETFROM:+1000
TZOFFSETTO:+1100
TZNAME:AEDT
DTSTART:20201003T160000
END:DAYLIGHT
END:VTIMEZONE
BEGIN:VEVENT
DTSTART;TZID="Australia/Melbourne":20200522T160000
DTEND;TZID="Australia/Melbourne":20200522T203000
DTSTAMP:20200225T194756
CREATED:20191115T021003Z
LAST-MODIFIED:20191115T021003Z
UID:909-1590163200-1590179400@dokarate.com.au
SUMMARY:DRAGONS - BLACK & BROWN BELT GRADING
DESCRIPTION:This is the first Dragons and Black & Brown grading for 2020 \nDragons 4.00-5.00pm \nBlack & Brown belts 7.00-8.30pm \nNORMAL CLASSES BETWEEN 5.00 -7.00pm \nSensei 0409 782 304 \n
URL:https://dokarate.com.au/event/dragons-black-brown-belt-grading/
ATTACH;FMTTYPE=image/jpeg:https://dokarate.com.au/wp-content/uploads/2019/11/1-2020-ISHINRYU-GRADINGS-application-copy-page-001.jpg
END:VEVENT
END:VCALENDAR