BEGIN:VCALENDAR
VERSION:2.0
PRODID:-//Bruce Hyland Champions Karate - ECPv5.3.1.1//NONSGML v1.0//EN
CALSCALE:GREGORIAN
METHOD:PUBLISH
X-WR-CALNAME:Bruce Hyland Champions Karate
X-ORIGINAL-URL:https://dokarate.com.au
X-WR-CALDESC:Events for Bruce Hyland Champions Karate
BEGIN:VTIMEZONE
TZID:Australia/Melbourne
BEGIN:STANDARD
TZOFFSETFROM:+1100
TZOFFSETTO:+1000
TZNAME:AEST
DTSTART:20190406T160000
END:STANDARD
BEGIN:DAYLIGHT
TZOFFSETFROM:+1000
TZOFFSETTO:+1100
TZNAME:AEDT
DTSTART:20191005T160000
END:DAYLIGHT
END:VTIMEZONE
BEGIN:VEVENT
DTSTART;TZID=Australia/Melbourne:20190626T170000
DTEND;TZID=Australia/Melbourne:20190626T200000
DTSTAMP:20210226T041141
CREATED:20190419T095347Z
LAST-MODIFIED:20190419T095347Z
UID:632-1561568400-1561579200@dokarate.com.au
SUMMARY:FAMILY & FREIND DAY
DESCRIPTION:Family & Friend Day for all classes bring along a Family member  or friend to experience karate and the many benefits – as its the end of term theres trophies and medals to be won 🙂
URL:https://dokarate.com.au/event/family-freind-day/
ATTACH;FMTTYPE=image/jpeg:https://dokarate.com.au/wp-content/uploads/2019/04/IMG_6929-copy.jpg
END:VEVENT
END:VCALENDAR