BEGIN:VCALENDAR
VERSION:2.0
PRODID:-//Bruce Hyland Champions Karate - ECPv5.3.1.1//NONSGML v1.0//EN
CALSCALE:GREGORIAN
METHOD:PUBLISH
X-WR-CALNAME:Bruce Hyland Champions Karate
X-ORIGINAL-URL:https://dokarate.com.au
X-WR-CALDESC:Events for Bruce Hyland Champions Karate
BEGIN:VTIMEZONE
TZID:Australia/Melbourne
BEGIN:STANDARD
TZOFFSETFROM:+1100
TZOFFSETTO:+1000
TZNAME:AEST
DTSTART:20190406T160000
END:STANDARD
BEGIN:DAYLIGHT
TZOFFSETFROM:+1000
TZOFFSETTO:+1100
TZNAME:AEDT
DTSTART:20191005T160000
END:DAYLIGHT
END:VTIMEZONE
BEGIN:VEVENT
DTSTART;TZID=Australia/Melbourne:20190708T160000
DTEND;TZID=Australia/Melbourne:20190708T164500
DTSTAMP:20210226T041253
CREATED:20190708T041512Z
LAST-MODIFIED:20190708T041512Z
UID:699-1562601600-1562604300@dokarate.com.au
SUMMARY:KIDZ YOGA
DESCRIPTION:Kids yoga tonight 4.00 – 4.45pm
URL:https://dokarate.com.au/event/kidz-yoga/
ATTACH;FMTTYPE=image/jpeg:https://dokarate.com.au/wp-content/uploads/2019/07/IMG_2187.jpg
END:VEVENT
END:VCALENDAR