BEGIN:VCALENDAR
VERSION:2.0
PRODID:-//Bruce Hyland Champions Karate - ECPv5.3.1.1//NONSGML v1.0//EN
CALSCALE:GREGORIAN
METHOD:PUBLISH
X-WR-CALNAME:Bruce Hyland Champions Karate
X-ORIGINAL-URL:https://dokarate.com.au
X-WR-CALDESC:Events for Bruce Hyland Champions Karate
BEGIN:VTIMEZONE
TZID:Australia/Melbourne
BEGIN:STANDARD
TZOFFSETFROM:+1100
TZOFFSETTO:+1000
TZNAME:AEST
DTSTART:20190406T160000
END:STANDARD
BEGIN:DAYLIGHT
TZOFFSETFROM:+1000
TZOFFSETTO:+1100
TZNAME:AEDT
DTSTART:20191005T160000
END:DAYLIGHT
END:VTIMEZONE
BEGIN:VEVENT
DTSTART;VALUE=DATE:20190615
DTEND;VALUE=DATE:20190616
DTSTAMP:20210228T120218
CREATED:20181116T004148Z
LAST-MODIFIED:20190408T203100Z
UID:378-1560556800-1560643199@dokarate.com.au
SUMMARY:PREGRADING TRAINING
DESCRIPTION:Pre Grading training with Sempai Emily is a fantastic way of polishing Kihon/basics – Kata/forms -Kumite/combinations and get some feedback and advice on your status prior to grading \, lots of luck  – ISHIN \nDETAILS AT RECEPTION SEAFORD ISHINRYU
URL:https://dokarate.com.au/event/pregrading-training/
ATTACH;FMTTYPE=image/jpeg:https://dokarate.com.au/wp-content/uploads/2018/11/2019-Bruce-Hyland-Grading-Forms-FINAL-LR_2.jpg
END:VEVENT
END:VCALENDAR