BEGIN:VCALENDAR
VERSION:2.0
PRODID:-//Bruce Hyland Karate - ECPv4.9.6//NONSGML v1.0//EN
CALSCALE:GREGORIAN
METHOD:PUBLISH
X-WR-CALNAME:Bruce Hyland Karate
X-ORIGINAL-URL:https://dokarate.com.au
X-WR-CALDESC:Events for Bruce Hyland Karate
BEGIN:VTIMEZONE
TZID:"Australia/Melbourne"
BEGIN:STANDARD
TZOFFSETFROM:+1100
TZOFFSETTO:+1000
TZNAME:AEST
DTSTART:20200404T160000
END:STANDARD
BEGIN:DAYLIGHT
TZOFFSETFROM:+1000
TZOFFSETTO:+1100
TZNAME:AEDT
DTSTART:20201003T160000
END:DAYLIGHT
END:VTIMEZONE
BEGIN:VEVENT
DTSTART;TZID="Australia/Melbourne":20200203T170000
DTEND;TZID="Australia/Melbourne":20200203T200000
DTSTAMP:20200225T193910
CREATED:20190929T115911Z
LAST-MODIFIED:20200105T043147Z
UID:853-1580749200-1580760000@dokarate.com.au
SUMMARY:TERM #1 REGULAR CLASSES TO TIMETABLE ATTACHED
DESCRIPTION:Term 1 timetable attached see you at the dojo 🙂 \n*NOTE CLASS ADJUSTMENTS THURSDAYS RONINS 5.00-6.00PM and YOGA 6.30-7.30PM \n
URL:https://dokarate.com.au/event/term-1-regular-classes-to-timetable-attached/
ATTACH;FMTTYPE=image/jpeg:https://dokarate.com.au/wp-content/uploads/2019/09/1-SESSION-TIMES-2020-copy-page-001.jpg
END:VEVENT
END:VCALENDAR