BEGIN:VCALENDAR
VERSION:2.0
PRODID:-//Bruce Hyland Karate - ECPv4.9.6//NONSGML v1.0//EN
CALSCALE:GREGORIAN
METHOD:PUBLISH
X-WR-CALNAME:Bruce Hyland Karate
X-ORIGINAL-URL:https://dokarate.com.au
X-WR-CALDESC:Events for Bruce Hyland Karate
BEGIN:VTIMEZONE
TZID:"Australia/Melbourne"
BEGIN:STANDARD
TZOFFSETFROM:+1100
TZOFFSETTO:+1000
TZNAME:AEST
DTSTART:20200404T160000
END:STANDARD
BEGIN:DAYLIGHT
TZOFFSETFROM:+1000
TZOFFSETTO:+1100
TZNAME:AEDT
DTSTART:20201003T160000
END:DAYLIGHT
END:VTIMEZONE
BEGIN:VEVENT
DTSTART;TZID="Australia/Melbourne":20200321T123000
DTEND;TZID="Australia/Melbourne":20200321T140000
DTSTAMP:20200225T193610
CREATED:20191114T020556Z
LAST-MODIFIED:20191114T020556Z
UID:889-1584793800-1584799200@dokarate.com.au
SUMMARY:PRE - GRADING TRAINING
DESCRIPTION:Pre – grading training for those karateka/students wishing to polish their Kihon – Kata – Kombinations trio to grading 12.30 -2.00pm \nSensei or Reception 0409 782 304 \n
URL:https://dokarate.com.au/event/pre-grading-training-4/
END:VEVENT
END:VCALENDAR