BEGIN:VCALENDAR
VERSION:2.0
PRODID:-//Bruce Hyland Champions Karate - ECPv5.3.1.1//NONSGML v1.0//EN
CALSCALE:GREGORIAN
METHOD:PUBLISH
X-WR-CALNAME:Bruce Hyland Champions Karate
X-ORIGINAL-URL:https://dokarate.com.au
X-WR-CALDESC:Events for Bruce Hyland Champions Karate
BEGIN:VTIMEZONE
TZID:Australia/Melbourne
BEGIN:STANDARD
TZOFFSETFROM:+1100
TZOFFSETTO:+1000
TZNAME:AEST
DTSTART:20200404T160000
END:STANDARD
BEGIN:DAYLIGHT
TZOFFSETFROM:+1000
TZOFFSETTO:+1100
TZNAME:AEDT
DTSTART:20201003T160000
END:DAYLIGHT
END:VTIMEZONE
BEGIN:VEVENT
DTSTART;VALUE=DATE:20200627
DTEND;VALUE=DATE:20200713
DTSTAMP:20210228T120537
CREATED:20191118T011412Z
LAST-MODIFIED:20200609T025804Z
UID:911-1593216000-1594598399@dokarate.com.au
SUMMARY:WINTER BREAK - TIMETABLE
DESCRIPTION:This is the winter break and we will be running classes on Mondays and Wednesdays so please read Holiday timetable to ensure you do not miss a class over the Winter Break – ISHIN \nISHINEWS also comes out each Monday at 10.00am so keep up with the latest read your ISHINEWS NOW …… \n  \nSUMMER HOLIDAYS and AUTUMN \, WINTER \, SPRING BREAKS \n Monday – Wednesday \n\nDragons 4-5 years : 4.00 – 4.30PM\nRonins: White belt – Orange belt : 4.45 – 5.45PM\nSeniors(White-Black belts ) & Ronins(Green-Black belts) : 6.00 – 7.00PM\n\n 
URL:https://dokarate.com.au/event/winter-break-timetable/
END:VEVENT
END:VCALENDAR